BEGIN:VCALENDAR
VERSION:2.0
PRODID:-//wp-events-plugin.com//7.2.3.1//EN
TZID:America/Toronto
X-WR-TIMEZONE:America/Toronto
BEGIN:VEVENT
UID:1694@trilliumunited.ca
DTSTART;TZID=America/Toronto:20260303T103000
DTEND;TZID=America/Toronto:20260303T113000
DTSTAMP:20260209T193321Z
URL:https://trilliumunited.ca/events/coffee-chat-2-2026-01-06-2026-02-03-2
 026-03-03/
SUMMARY:Coffee & Chat
DESCRIPTION:All are welcome to this relaxed time of fellowship. Come for tr
 eats\, good company\, conversation and laughter (coffee and tea of course)
 .  Invite friends and family\, bring your knitting or crocheting.\n\nThis
  is a fully accessible space.\n\nThis time together operates with voluntee
 r leadership and support.  If you would like to be a part of putting out 
 a pot of tea and setting out refreshments\, please contact Dianne Siegel 2
 89-407-9520.
ATTACH;FMTTYPE=image/jpeg:https://trilliumunited.ca/wp-content/uploads/202
 5/09/coffee-and-chat.jpg
CATEGORIES:Public
LOCATION:Evelyn Boyd 2 (EB2)\, 415 Linwell Road\,\, St. Catharines\, Ontari
 o\, L2M 2P3\, Canada
X-APPLE-STRUCTURED-LOCATION;VALUE=URI;X-ADDRESS=415 Linwell Road\,\, St. Ca
 tharines\, Ontario\, L2M 2P3\, Canada;X-APPLE-RADIUS=100;X-TITLE=Evelyn Bo
 yd 2 (EB2):geo:0,0
END:VEVENT
BEGIN:VTIMEZONE
TZID:America/Toronto
X-LIC-LOCATION:America/Toronto
BEGIN:STANDARD
DTSTART:20251102T010000
TZOFFSETFROM:-0400
TZOFFSETTO:-0500
TZNAME:EST
END:STANDARD
END:VTIMEZONE
END:VCALENDAR